BEGIN:VCALENDAR
VERSION:2.0
PRODID:-//Joseph Maley Foundation - ECPv6.15.7//NONSGML v1.0//EN
CALSCALE:GREGORIAN
METHOD:PUBLISH
X-ORIGINAL-URL:https://www.josephmaley.org
X-WR-CALDESC:Events for Joseph Maley Foundation
REFRESH-INTERVAL;VALUE=DURATION:PT1H
X-Robots-Tag:noindex
X-PUBLISHED-TTL:PT1H
BEGIN:VTIMEZONE
TZID:UTC
BEGIN:STANDARD
TZOFFSETFROM:+0000
TZOFFSETTO:+0000
TZNAME:UTC
DTSTART:20210101T000000
END:STANDARD
END:VTIMEZONE
BEGIN:VEVENT
DTSTART;TZID=UTC:20250623T120000
DTEND;TZID=UTC:20250623T130000
DTSTAMP:20260420T090258
CREATED:20250515T202133Z
LAST-MODIFIED:20250527T233844Z
UID:10000075-1750680000-1750683600@www.josephmaley.org
SUMMARY:Navigating Special Education Laws: A Primer for Indiana Attorneys
DESCRIPTION:Content: Thousands of Indiana students qualify for special education services. Many families struggle to navigate the complex maze of regulations. This primer gives attorneys the nuts and bolts of what they need to help counsel families. Topics covered include: \n\nFree Appropriate Education\nAppropriate Education Evaluations\nIndividualized Education Evaluations\nLeast Restrictive Environment\nProcedural Safeguards\nNotice & Process Rights\nDuty to Disclose Suspected Child Abuse or Neglect\n\nSpeaker: John Maley\, Barnes & Thornburg\, Special Education Director\, Joseph Maley Foundation \nCost: $45 or $15 for attorneys who commit to five hours of pro bono services through Joseph Maley Foundation’s Family Support program \nPaying by check or have any questions: Contact Joseph Maley Foundation Communications Manager\, Courtney Basso at cbasso@josephmaley.org \n1.0 Hours CLE Approved Live & Virtual Program.\n \nSummer associates\, law clerks\, and paralegals – use code SUMMER to receive free registration. \nSponsored by\n \n  \nREGISTER HERE
URL:https://www.josephmaley.org/event/navigating-special-education-laws-a-primer-for-indiana-attorneys-4/
LOCATION:Barnes & Thornburg\, 11 South Meridian Street\, Indianapolis\, IN\, 46204\, United States
CATEGORIES:Family Support
ATTACH;FMTTYPE=image/png:https://www.josephmaley.org/wp-content/uploads/2023/05/cle-image.png
END:VEVENT
BEGIN:VEVENT
DTSTART;TZID=UTC:20241213T133000
DTEND;TZID=UTC:20241213T164500
DTSTAMP:20260420T090258
CREATED:20231122T163103Z
LAST-MODIFIED:20241111T132920Z
UID:10000039-1734096600-1734108300@www.josephmaley.org
SUMMARY:Federal Civil Practice Seminar: Insights from Bench and Bar
DESCRIPTION:Join us for the annual federal civil practice update featuring federal judges and federal practitioners.  Topics include updates to federal rules and local rules\, new case law developments\, and practical insights on best practices from the judges. \nCost: $95 \nSpeakers: \n\nJohn Maley\, Barnes & Thornburg\, Special Education Director\, Joseph Maley Foundation\nOffer Korin\, Stoll Keenon Ogden PLLC\nChief Judge Tanya Walton Pratt\, S.D. of Indiana\nDistrict Judge Richard Young\, S.D. of Indiana\nJudge Joshua Kolar\, Seventh Circuit Court of Appeals\nHon. Mark J. Dinsmore\, U.S. Magistrate Judge\, S.D. of Indiana\nClerk Kristine Seufert\, S.D. of Indiana\n\n  \nRegister Here \nSponsored by\n \nPaying by check or have any questions: Contact Joseph Maley Foundation Senior Communications Manager\, Courtney Basso at cbasso@josephmaley.org. Checks can be mailed to: Joseph Maley Foundation\, PO Box 681010\, Indianapolis\, IN 46268 \n3 hours CLE \nVirtual Tickets Available: Remote webinar via secure login with attendance monitoring \nThe Foundation will submit CLE registration for Indiana attorneys.   For attorneys seeking CLE credit for other states\, attendees must handle such submission.
URL:https://www.josephmaley.org/event/federal-civil-practice-seminar-insights-from-bench-and-bar/
LOCATION:Barnes & Thornburg\, 11 South Meridian Street\, Indianapolis\, IN\, 46204\, United States
ATTACH;FMTTYPE=image/png:https://www.josephmaley.org/wp-content/uploads/2023/11/clefed.png
END:VEVENT
BEGIN:VEVENT
DTSTART;TZID=UTC:20241211T120000
DTEND;TZID=UTC:20241211T130000
DTSTAMP:20260420T090258
CREATED:20241023T141528Z
LAST-MODIFIED:20241023T141528Z
UID:10000056-1733918400-1733922000@www.josephmaley.org
SUMMARY:Legal Ethics in Special Education
DESCRIPTION:Content: Thousands of Indiana students qualify for special education services. Many families struggle to navigate the complex maze of regulations. This course\, tailored to ethical issues for attorneys guiding families in special education legal issues\, addresses the following ethical issues: \n\nCommon Ethical Issues In Representing Students in Special Education Matters\n● Attending Case Conferences\n● Dealing with Unrepresented Persons\n● Communication with Person Represented by Counsel\n● Can You Tell Parents What to Say?\n● Do We Know the School is Represented?\n● What if you\, the Lawyer\, are the Parent?\n● Duty to Report Suspected Child Abuse and/or Neglect\n\nSpeaker: John Maley\, Barnes & Thornburg\, Special Education Director\, Joseph Maley Foundation \nCost: $45 or $15 for attorneys who commit to five hours of pro bono services through Joseph Maley Foundation’s Family Support program \nPaying by check or have any questions: Contact Joseph Maley Foundation Communications Manager\, Courtney Basso at cbasso@josephmaley.org. Checks can be mailed to: Joseph Maley Foundation\, PO Box 681010\, Indianapolis\, IN 46268 \n1.5 Hours CLE Approved Live Program \nVirtual Tickets Available: Remote webinar via secure login with attendance monitoring \n  \nREGISTER HERE
URL:https://www.josephmaley.org/event/legal-ethics-in-special-education-2/
LOCATION:Barnes & Thornburg\, 11 South Meridian Street\, Indianapolis\, IN\, 46204\, United States
ATTACH;FMTTYPE=image/png:https://www.josephmaley.org/wp-content/uploads/2023/11/emailevent-website-1.png
END:VEVENT
BEGIN:VEVENT
DTSTART;TZID=UTC:20241024T120000
DTEND;TZID=UTC:20241024T130000
DTSTAMP:20260420T090258
CREATED:20240905T142609Z
LAST-MODIFIED:20240905T142715Z
UID:10000054-1729771200-1729774800@www.josephmaley.org
SUMMARY:Transition\, Disability\, and the Law
DESCRIPTION:Content: This course provides guidance on the topic of students with disabilities as they transition from school to their adult lives\, working and participating in their communities\, employment and/or postsecondary education. Topics include: \n\nWhat Are Transition Services?\nIndiana Guardianship Law and the Least Restrictive Alternative\nVocational Rehabilitation\nHigher Education Accommodations – Section 504 and ADA Title II and III\nSSI and Medicaid\nOther Transition Resources\nPractical Tips for Helping Students and Parents Navigate Transition \n\nSpeaker: Mary Elizabeth Ford\, Barnes & Thornburg\, Associate \nCost: $45\, or $15 for attorneys who commit to five hours of pro bono services through Joseph Maley Foundation’s Family Support program.  \nRegistration: josephmaley.org or check to Joseph Maley Foundation\, PO Box 681010\, Indianapolis\, IN 46268 \nQuestions: Contact Joseph Maley Foundation Communications Manager\, Courtney Basso at cbasso@josephmaley.org  \n1.0 Hours CLE Approved Live & Virtual Program.\n \n  \nREGISTER HERE
URL:https://www.josephmaley.org/event/transition/
LOCATION:Barnes & Thornburg\, 11 South Meridian Street\, Indianapolis\, IN\, 46204\, United States
ATTACH;FMTTYPE=image/png:https://www.josephmaley.org/wp-content/uploads/2024/09/Blog-Event-Featured-Image-Template-4.png
END:VEVENT
BEGIN:VEVENT
DTSTART;TZID=UTC:20240919T120000
DTEND;TZID=UTC:20240919T130000
DTSTAMP:20260420T090258
CREATED:20240812T161933Z
LAST-MODIFIED:20240812T161933Z
UID:10000053-1726747200-1726750800@www.josephmaley.org
SUMMARY:Navigating Special Education Laws: A Primer for Indiana Attorneys
DESCRIPTION:Content: Thousands of Indiana students qualify for special education services. Many families struggle to navigate the complex maze of regulations. This primer gives attorneys the nuts and bolts of what they need to help counsel families. Topics covered include: \n\nFree Appropriate Education\nAppropriate Education Evaluations\nIndividualized Education Evaluations\nLeast Restrictive Environment\nProcedural Safeguards\nNotice & Process Rights\nDuty to Disclose Suspected Child Abuse or Neglect\n\nSpeaker: John Maley\, Barnes & Thornburg\, Special Education Director\, Joseph Maley Foundation \nCost: $45 or $15 for attorneys who commit to five hours of pro bono services through Joseph Maley Foundation’s Family Support program \nPaying by check or have any questions: Contact Joseph Maley Foundation Communications Manager\, Courtney Basso at cbasso@josephmaley.org \n1.0 Hours CLE Approved Live & Virtual Program.\n \n  \nREGISTER HERE
URL:https://www.josephmaley.org/event/navigating-special-education-laws-a-primer-for-indiana-attorneys-2/
LOCATION:Barnes & Thornburg\, 11 South Meridian Street\, Indianapolis\, IN\, 46204\, United States
ATTACH;FMTTYPE=image/png:https://www.josephmaley.org/wp-content/uploads/2023/05/cle-image.png
END:VEVENT
BEGIN:VEVENT
DTSTART;TZID=UTC:20240613T120000
DTEND;TZID=UTC:20240613T130000
DTSTAMP:20260420T090258
CREATED:20230522T201718Z
LAST-MODIFIED:20240522T153053Z
UID:10000031-1718280000-1718283600@www.josephmaley.org
SUMMARY:Navigating Special Education Laws: A Primer for Indiana Attorneys
DESCRIPTION:Content: Thousands of Indiana students qualify for special education services. Many families struggle to navigate the complex maze of regulations. This primer gives attorneys the nuts and bolts of what they need to help counsel families. Topics covered include: \n\nFree Appropriate Education\nAppropriate Education Evaluations\nIndividualized Education Evaluations\nLeast Restrictive Environment\nProcedural Safeguards\nNotice & Process Rights\nDuty to Disclose Suspected Child Abuse or Neglect\n\nSpeaker: John Maley\, Barnes & Thornburg\, Special Education Director\, Joseph Maley Foundation \nCost: $45 or $15 for attorneys who commit to five hours of pro bono services through Joseph Maley Foundation’s Family Support program \nPaying by check or have any questions: Contact Joseph Maley Foundation Senior Communications Manager\, Aubrey Wiest at aubrey@josephmaley.org \n1.0 Hours CLE Approved Live & Virtual Program.\n \n  \nREGISTER HERE
URL:https://www.josephmaley.org/event/navigating-special-education-laws-a-primer-for-indiana-attorneys/
LOCATION:Barnes & Thornburg\, 11 South Meridian Street\, Indianapolis\, IN\, 46204\, United States
ATTACH;FMTTYPE=image/png:https://www.josephmaley.org/wp-content/uploads/2023/05/cle-image.png
END:VEVENT
BEGIN:VEVENT
DTSTART;TZID=UTC:20231214T120000
DTEND;TZID=UTC:20231214T130000
DTSTAMP:20260420T090258
CREATED:20231122T163635Z
LAST-MODIFIED:20231122T163710Z
UID:10000040-1702555200-1702558800@www.josephmaley.org
SUMMARY:Legal Ethics in Special Education
DESCRIPTION:Content: Thousands of Indiana students qualify for special education services. Many families struggle to navigate the complex maze of regulations. This course\, tailored to ethical issues for attorneys guiding families in special education legal issues\, addresses the following ethical issues: \n\nCommon Ethical Issues In Representing Students in Special Education Matters\n● Attending Case Conferences\n● Dealing with Unrepresented Persons\n● Communication with Person Represented by Counsel\n● Can You Tell Parents What to Say?\n● Do We Know the School is Represented?\n● What if you\, the Lawyer\, are the Parent?\n● Duty to Report Suspected Child Abuse and/or Neglect\n\nSpeaker: John Maley\, Barnes & Thornburg\, Special Education Director\, Joseph Maley Foundation \nCost: $45 or $15 for attorneys who commit to five hours of pro bono services through Joseph Maley Foundation’s Family Support program \nPaying by check or have any questions: Contact Joseph Maley Foundation Senior Communications Manager\, Aubrey Wiest at aubrey@josephmaley.org. Checks can be mailed to: Joseph Maley Foundation\, PO Box 681010\, Indianapolis\, IN 46268 \n1.0 Hours CLE Approved Live Program \nVirtual Tickets Available: Remote webinar via secure login with attendance monitoring \n  \nREGISTER HERE
URL:https://www.josephmaley.org/event/legal-ethics-in-special-education/
LOCATION:Barnes & Thornburg\, 11 South Meridian Street\, Indianapolis\, IN\, 46204\, United States
ATTACH;FMTTYPE=image/png:https://www.josephmaley.org/wp-content/uploads/2023/11/emailevent-website-1.png
END:VEVENT
BEGIN:VEVENT
DTSTART;TZID=UTC:20221216T133000
DTEND;TZID=UTC:20221216T164500
DTSTAMP:20260420T090258
CREATED:20221130T150109Z
LAST-MODIFIED:20221130T182225Z
UID:10000021-1671197400-1671209100@www.josephmaley.org
SUMMARY:Continuing Legal Education: Practical Tips from the Bench & Bar
DESCRIPTION:Brought to you by Joseph Maley Foundation \nCelebrating differences and cultivating an inclusive community through education and service of youth in Greater Indianapolis. \nREGISTER HERE \nApproved by Indiana CLE Commission for 3.0 hours CLE\, including .5 hours Ethics
URL:https://www.josephmaley.org/event/continuing-legal-education-practical-tips-from-the-bench-bar/
LOCATION:Barnes & Thornburg\, 11 South Meridian Street\, Indianapolis\, IN\, 46204\, United States
ATTACH;FMTTYPE=image/jpeg:https://www.josephmaley.org/wp-content/uploads/2022/11/REDO-CLE-IMAGE.jpg
END:VEVENT
END:VCALENDAR